BEGIN:VCALENDAR
VERSION:2.0
CALSCALE:GREGORIAN
PRODID:-//Diputació de Barcelona//DibaCMS//EN
BEGIN:VEVENT
UID:6737
DTSTAMP:20260424T110547
DTSTART:20180814T230000
DTEND:20180814T000000
SUMMARY:Festa Major d’Estiu
LOCATION:
METHOD:PUBLISH
X-WR-CALNAME:aiguafreda@aiguafreda.cat
X-WR-TIMEZONE:Europe/Madrid
DESCRIPTION:
URI:https://www.aiguafreda.cat/actualitat/agenda/6737-festa-major-destiu.html
CLASS:PUBLIC
END:VEVENT
END:VCALENDAR
