BEGIN:VCALENDAR
VERSION:2.0
CALSCALE:GREGORIAN
PRODID:-//Diputació de Barcelona//DibaCMS//EN
BEGIN:VEVENT
UID:6728
DTSTAMP:20260423T212416
DTSTART:20180707T180000
DTEND:20180707T000000
SUMMARY:Berenar del soci del Casal d'Avis
LOCATION:
METHOD:PUBLISH
X-WR-CALNAME:aiguafreda@aiguafreda.cat
X-WR-TIMEZONE:Europe/Madrid
DESCRIPTION:
URI:https://www.aiguafreda.cat/actualitat/agenda/berenar-del-soci-del-casal-davis.html
CLASS:PUBLIC
END:VEVENT
END:VCALENDAR
