BEGIN:VCALENDAR
VERSION:2.0
CALSCALE:GREGORIAN
PRODID:-//Diputació de Barcelona//DibaCMS//EN
BEGIN:VEVENT
UID:6725
DTSTAMP:20260423T163757
DTSTART:20180702T093000
DTEND:20180702T143000
SUMMARY:Curs de Monitor de Lleure Infantil i Juvenil
LOCATION:
METHOD:PUBLISH
X-WR-CALNAME:aiguafreda@aiguafreda.cat
X-WR-TIMEZONE:Europe/Madrid
DESCRIPTION:
URI:https://www.aiguafreda.cat/actualitat/agenda/curs-de-monitor-de-lleure-infantil-i-juvenil.html
CLASS:PUBLIC
END:VEVENT
END:VCALENDAR
