BEGIN:VCALENDAR
VERSION:2.0
CALSCALE:GREGORIAN
PRODID:-//Diputació de Barcelona//DibaCMS//EN
BEGIN:VEVENT
UID:6724
DTSTAMP:20260423T185945
DTSTART:20180702T090000
DTEND:20180702T130000
SUMMARY:Campus Soccer Experience de futbol infantil
LOCATION:
METHOD:PUBLISH
X-WR-CALNAME:aiguafreda@aiguafreda.cat
X-WR-TIMEZONE:Europe/Madrid
DESCRIPTION:
URI:https://www.aiguafreda.cat/actualitat/agenda/campus-soccer-experience-de-futbol-infantil.html
CLASS:PUBLIC
END:VEVENT
END:VCALENDAR
