BEGIN:VCALENDAR
VERSION:2.0
CALSCALE:GREGORIAN
PRODID:-//Diputació de Barcelona//DibaCMS//EN
BEGIN:VEVENT
UID:6722
DTSTAMP:20260423T155407
DTSTART:20180630T220000
DTEND:20180630T000000
SUMMARY:Festival de Ballet de l’escola “Dansaidansa”
LOCATION:
METHOD:PUBLISH
X-WR-CALNAME:aiguafreda@aiguafreda.cat
X-WR-TIMEZONE:Europe/Madrid
DESCRIPTION:
URI:https://www.aiguafreda.cat/actualitat/agenda/festival-de-ballet-de-lescola-dansaidansa.html
CLASS:PUBLIC
END:VEVENT
END:VCALENDAR
