BEGIN:VCALENDAR
VERSION:2.0
CALSCALE:GREGORIAN
PRODID:-//Diputació de Barcelona//DibaCMS//EN
BEGIN:VEVENT
UID:6721
DTSTAMP:20260423T143542
DTSTART:20180625T000000
DTEND:20180625T000000
SUMMARY:Comença el Casal d’Estiu d’Aiguafreda a les instal•lacions de l’escola “La Muntanya”
LOCATION:
METHOD:PUBLISH
X-WR-CALNAME:aiguafreda@aiguafreda.cat
X-WR-TIMEZONE:Europe/Madrid
DESCRIPTION:
URI:https://www.aiguafreda.cat/actualitat/agenda/comenca-el-casal-destiu-daiguafreda-a-les-installacions-de-lescola-la-muntanya.html
CLASS:PUBLIC
END:VEVENT
END:VCALENDAR
