BEGIN:VCALENDAR
VERSION:2.0
CALSCALE:GREGORIAN
PRODID:-//Diputació de Barcelona//DibaCMS//EN
BEGIN:VEVENT
UID:6720
DTSTAMP:20260423T190502
DTSTART:20180623T000000
DTEND:20180623T000000
SUMMARY:Sortida de 6 dies a Sant Carles de la Ràpita
LOCATION:
METHOD:PUBLISH
X-WR-CALNAME:aiguafreda@aiguafreda.cat
X-WR-TIMEZONE:Europe/Madrid
DESCRIPTION:
URI:https://www.aiguafreda.cat/actualitat/agenda/sortida-de-6-dies-a-sant-carles-de-la-rapita.html
CLASS:PUBLIC
END:VEVENT
END:VCALENDAR
