BEGIN:VCALENDAR
VERSION:2.0
CALSCALE:GREGORIAN
PRODID:-//Diputació de Barcelona//DibaCMS//EN
BEGIN:VEVENT
UID:6719
DTSTAMP:20260423T160042
DTSTART:20180623T110000
DTEND:20180623T000000
SUMMARY:Obertura de les Psicines Municipals
LOCATION:
METHOD:PUBLISH
X-WR-CALNAME:aiguafreda@aiguafreda.cat
X-WR-TIMEZONE:Europe/Madrid
DESCRIPTION:
URI:https://www.aiguafreda.cat/actualitat/agenda/obertura-de-les-psicines-municipals.html
CLASS:PUBLIC
END:VEVENT
END:VCALENDAR
