BEGIN:VCALENDAR
VERSION:2.0
CALSCALE:GREGORIAN
PRODID:-//Diputació de Barcelona//DibaCMS//EN
BEGIN:VEVENT
UID:6717
DTSTAMP:20260423T185900
DTSTART:20180623T000000
DTEND:20180623T000000
SUMMARY:Arribada de la Flama del Canigó
LOCATION:
METHOD:PUBLISH
X-WR-CALNAME:aiguafreda@aiguafreda.cat
X-WR-TIMEZONE:Europe/Madrid
DESCRIPTION:
URI:https://www.aiguafreda.cat/actualitat/agenda/6717-arribada-de-la-flama-del-canigo.html
CLASS:PUBLIC
END:VEVENT
END:VCALENDAR
