BEGIN:VCALENDAR
VERSION:2.0
CALSCALE:GREGORIAN
PRODID:-//Diputació de Barcelona//DibaCMS//EN
BEGIN:VEVENT
UID:6715
DTSTAMP:20260423T180327
DTSTART:20180616T203000
DTEND:20180617T000000
SUMMARY:La 8a. cursa nocturna de les Ànimes del Purgatori
LOCATION:
METHOD:PUBLISH
X-WR-CALNAME:aiguafreda@aiguafreda.cat
X-WR-TIMEZONE:Europe/Madrid
DESCRIPTION:
URI:https://www.aiguafreda.cat/actualitat/agenda/la-8a-cursa-nocturna-de-les-animes-del-purgatori.html
CLASS:PUBLIC
END:VEVENT
END:VCALENDAR
