BEGIN:VCALENDAR
VERSION:2.0
CALSCALE:GREGORIAN
PRODID:-//Diputació de Barcelona//DibaCMS//EN
BEGIN:VEVENT
UID:6712
DTSTAMP:20260424T180448
DTSTART:20180603T093000
DTEND:20180603T000000
SUMMARY:Itinerari de descoberta de plantes autòctones de la Vall del Congost 	
LOCATION:
METHOD:PUBLISH
X-WR-CALNAME:aiguafreda@aiguafreda.cat
X-WR-TIMEZONE:Europe/Madrid
DESCRIPTION:
URI:https://www.aiguafreda.cat/actualitat/agenda/itinerari-de-descoberta-de-plantes-autoctones-de-la-vall-del-congost-.html
CLASS:PUBLIC
END:VEVENT
END:VCALENDAR
