BEGIN:VCALENDAR
VERSION:2.0
CALSCALE:GREGORIAN
PRODID:-//Diputació de Barcelona//DibaCMS//EN
BEGIN:VEVENT
UID:6711
DTSTAMP:20260424T065618
DTSTART:20180603T000000
DTEND:20180603T000000
SUMMARY:33è Festival de Patinatge
LOCATION:
METHOD:PUBLISH
X-WR-CALNAME:aiguafreda@aiguafreda.cat
X-WR-TIMEZONE:Europe/Madrid
DESCRIPTION:
URI:https://www.aiguafreda.cat/actualitat/agenda/33e-festival-de-patinatge.html
CLASS:PUBLIC
END:VEVENT
END:VCALENDAR
