BEGIN:VCALENDAR
VERSION:2.0
CALSCALE:GREGORIAN
PRODID:-//Diputació de Barcelona//DibaCMS//EN
BEGIN:VEVENT
UID:6709
DTSTAMP:20260423T184007
DTSTART:20180602T090000
DTEND:20180602T140000
SUMMARY:La Fira d’Herbes Remeieres i Plantes Aromàtiques
LOCATION:
METHOD:PUBLISH
X-WR-CALNAME:aiguafreda@aiguafreda.cat
X-WR-TIMEZONE:Europe/Madrid
DESCRIPTION:
URI:https://www.aiguafreda.cat/actualitat/agenda/la-fira-dherbes-remeieres-i-plantes-aromatiques.html
CLASS:PUBLIC
END:VEVENT
END:VCALENDAR
