BEGIN:VCALENDAR
VERSION:2.0
CALSCALE:GREGORIAN
PRODID:-//Diputació de Barcelona//DibaCMS//EN
BEGIN:VEVENT
UID:6708
DTSTAMP:20260424T004225
DTSTART:20180527T060000
DTEND:20180527T000000
SUMMARY:43a. Travessa del Montseny. Aiguafreda-Gualba
LOCATION:
METHOD:PUBLISH
X-WR-CALNAME:aiguafreda@aiguafreda.cat
X-WR-TIMEZONE:Europe/Madrid
DESCRIPTION:
URI:https://www.aiguafreda.cat/actualitat/agenda/43a-travessa-del-montseny-aiguafreda-gualba.html
CLASS:PUBLIC
END:VEVENT
END:VCALENDAR
