BEGIN:VCALENDAR
VERSION:2.0
CALSCALE:GREGORIAN
PRODID:-//Diputació de Barcelona//DibaCMS//EN
BEGIN:VEVENT
UID:6707
DTSTAMP:20260423T201328
DTSTART:20180527T120000
DTEND:20180527T140000
SUMMARY:Ballada de sardanes a la Plaça Major
LOCATION:
METHOD:PUBLISH
X-WR-CALNAME:aiguafreda@aiguafreda.cat
X-WR-TIMEZONE:Europe/Madrid
DESCRIPTION:
URI:https://www.aiguafreda.cat/actualitat/agenda/ballada-de-sardanes-a-la-placa-major.html
CLASS:PUBLIC
END:VEVENT
END:VCALENDAR
