BEGIN:VCALENDAR
VERSION:2.0
CALSCALE:GREGORIAN
PRODID:-//Diputació de Barcelona//DibaCMS//EN
BEGIN:VEVENT
UID:6705
DTSTAMP:20260423T140912
DTSTART:20180513T000000
DTEND:20180513T000000
SUMMARY:Caminada del Lupus
LOCATION:
METHOD:PUBLISH
X-WR-CALNAME:aiguafreda@aiguafreda.cat
X-WR-TIMEZONE:Europe/Madrid
DESCRIPTION:
URI:https://www.aiguafreda.cat/actualitat/agenda/caminada-del-lupus.html
CLASS:PUBLIC
END:VEVENT
END:VCALENDAR
