BEGIN:VCALENDAR
VERSION:2.0
CALSCALE:GREGORIAN
PRODID:-//Diputació de Barcelona//DibaCMS//EN
BEGIN:VEVENT
UID:6704
DTSTAMP:20260423T141830
DTSTART:20180509T000000
DTEND:20180509T000000
SUMMARY:Intercanvi de casals
LOCATION:
METHOD:PUBLISH
X-WR-CALNAME:aiguafreda@aiguafreda.cat
X-WR-TIMEZONE:Europe/Madrid
DESCRIPTION:
URI:https://www.aiguafreda.cat/actualitat/agenda/intercanvi-de-casals.html
CLASS:PUBLIC
END:VEVENT
END:VCALENDAR
