BEGIN:VCALENDAR
VERSION:2.0
CALSCALE:GREGORIAN
PRODID:-//Diputació de Barcelona//DibaCMS//EN
BEGIN:VEVENT
UID:6703
DTSTAMP:20260423T144617
DTSTART:20180509T000000
DTEND:20180509T000000
SUMMARY:Visita a Aiguafreda del Casal de Sant Llorenç d’Hortons en la tornada de l’intercanvi entre casals
LOCATION:
METHOD:PUBLISH
X-WR-CALNAME:aiguafreda@aiguafreda.cat
X-WR-TIMEZONE:Europe/Madrid
DESCRIPTION:
URI:https://www.aiguafreda.cat/actualitat/agenda/visita-a-aiguafreda-del-casal-de-sant-llorenc-dhortons-en-la-tornada-de-lintercanvi-entre-casals.html
CLASS:PUBLIC
END:VEVENT
END:VCALENDAR
