BEGIN:VCALENDAR
VERSION:2.0
CALSCALE:GREGORIAN
PRODID:-//Diputació de Barcelona//DibaCMS//EN
BEGIN:VEVENT
UID:6702
DTSTAMP:20260423T125521
DTSTART:20180501T000000
DTEND:20180501T000000
SUMMARY:Trobada de grallers
LOCATION:
METHOD:PUBLISH
X-WR-CALNAME:aiguafreda@aiguafreda.cat
X-WR-TIMEZONE:Europe/Madrid
DESCRIPTION:
URI:https://www.aiguafreda.cat/actualitat/agenda/trobada-de-grallers.html
CLASS:PUBLIC
END:VEVENT
END:VCALENDAR
