BEGIN:VCALENDAR
VERSION:2.0
CALSCALE:GREGORIAN
PRODID:-//Diputació de Barcelona//DibaCMS//EN
BEGIN:VEVENT
UID:6700
DTSTAMP:20260423T190257
DTSTART:20180311T000000
DTEND:20180311T000000
SUMMARY:Commemoració del Dia de la Dona amb la Caminada Solidària
LOCATION:
METHOD:PUBLISH
X-WR-CALNAME:aiguafreda@aiguafreda.cat
X-WR-TIMEZONE:Europe/Madrid
DESCRIPTION:
URI:https://www.aiguafreda.cat/actualitat/agenda/commemoracio-del-dia-de-la-dona-amb-la-caminada-solidaria.html
CLASS:PUBLIC
END:VEVENT
END:VCALENDAR
