BEGIN:VCALENDAR
VERSION:2.0
CALSCALE:GREGORIAN
PRODID:-//Diputació de Barcelona//DibaCMS//EN
BEGIN:VEVENT
UID:6697
DTSTAMP:20260423T095221
DTSTART:20180224T173000
DTEND:20180224T210000
SUMMARY:Carnaval 
LOCATION:
METHOD:PUBLISH
X-WR-CALNAME:aiguafreda@aiguafreda.cat
X-WR-TIMEZONE:Europe/Madrid
DESCRIPTION:
URI:https://www.aiguafreda.cat/actualitat/agenda/6697-carnaval-.html
CLASS:PUBLIC
END:VEVENT
END:VCALENDAR
