BEGIN:VCALENDAR
VERSION:2.0
CALSCALE:GREGORIAN
PRODID:-//Diputació de Barcelona//DibaCMS//EN
BEGIN:VEVENT
UID:6693
DTSTAMP:20260423T071244
DTSTART:20171216T000000
DTEND:20171216T000000
SUMMARY:Inauguració del Pessebre al Casal Sant Jordi
LOCATION:
METHOD:PUBLISH
X-WR-CALNAME:aiguafreda@aiguafreda.cat
X-WR-TIMEZONE:Europe/Madrid
DESCRIPTION:
URI:https://www.aiguafreda.cat/actualitat/agenda/inauguracio-del-pessebre-al-casal-sant-jordi.html
CLASS:PUBLIC
END:VEVENT
END:VCALENDAR
