BEGIN:VCALENDAR
VERSION:2.0
CALSCALE:GREGORIAN
PRODID:-//Diputació de Barcelona//DibaCMS//EN
BEGIN:VEVENT
UID:6691
DTSTAMP:20260423T113358
DTSTART:20171202T000000
DTEND:20171202T000000
SUMMARY:11a. Fira d’Artesans i de Nadal d’Aiguafreda
LOCATION:
METHOD:PUBLISH
X-WR-CALNAME:aiguafreda@aiguafreda.cat
X-WR-TIMEZONE:Europe/Madrid
DESCRIPTION:
URI:https://www.aiguafreda.cat/actualitat/agenda/11a-fira-dartesans-i-de-nadal-daiguafreda.html
CLASS:PUBLIC
END:VEVENT
END:VCALENDAR
