BEGIN:VCALENDAR
VERSION:2.0
CALSCALE:GREGORIAN
PRODID:-//Diputació de Barcelona//DibaCMS//EN
BEGIN:VEVENT
UID:6688
DTSTAMP:20260423T172946
DTSTART:20171126T000000
DTEND:20171126T000000
SUMMARY:Trobada de Gegants d’Aiguafreda
LOCATION:
METHOD:PUBLISH
X-WR-CALNAME:aiguafreda@aiguafreda.cat
X-WR-TIMEZONE:Europe/Madrid
DESCRIPTION:
URI:https://www.aiguafreda.cat/actualitat/agenda/6688-trobada-de-gegants-daiguafreda.html
CLASS:PUBLIC
END:VEVENT
END:VCALENDAR
