BEGIN:VCALENDAR
VERSION:2.0
CALSCALE:GREGORIAN
PRODID:-//Diputació de Barcelona//DibaCMS//EN
BEGIN:VEVENT
UID:6687
DTSTAMP:20260423T100157
DTSTART:20171118T000000
DTEND:20171118T000000
SUMMARY:Inauguració de la restauració de la Resclosa de Martinet
LOCATION:
METHOD:PUBLISH
X-WR-CALNAME:aiguafreda@aiguafreda.cat
X-WR-TIMEZONE:Europe/Madrid
DESCRIPTION:
URI:https://www.aiguafreda.cat/actualitat/agenda/inauguracio-de-la-restauracio-de-la-resclosa-de-martinet.html
CLASS:PUBLIC
END:VEVENT
END:VCALENDAR
