BEGIN:VCALENDAR
VERSION:2.0
CALSCALE:GREGORIAN
PRODID:-//Diputació de Barcelona//DibaCMS//EN
BEGIN:VEVENT
UID:6686
DTSTAMP:20260423T154417
DTSTART:20171114T000000
DTEND:20171114T000000
SUMMARY:Jornada d’intercanvi de casals. Anada a Sant Llorenç d’Hortons (Alt Penedès)
LOCATION:
METHOD:PUBLISH
X-WR-CALNAME:aiguafreda@aiguafreda.cat
X-WR-TIMEZONE:Europe/Madrid
DESCRIPTION:
URI:https://www.aiguafreda.cat/actualitat/agenda/jornada-dintercanvi-de-casals-anada-a-sant-llorenc-dhortons-alt-penedes.html
CLASS:PUBLIC
END:VEVENT
END:VCALENDAR
