BEGIN:VCALENDAR
VERSION:2.0
CALSCALE:GREGORIAN
PRODID:-//Diputació de Barcelona//DibaCMS//EN
BEGIN:VEVENT
UID:6683
DTSTAMP:20260423T113303
DTSTART:20171029T173000
DTEND:20171029T193000
SUMMARY:Sardanes amb la Cobla Lluïsos de Taradell
LOCATION:
METHOD:PUBLISH
X-WR-CALNAME:aiguafreda@aiguafreda.cat
X-WR-TIMEZONE:Europe/Madrid
DESCRIPTION:
URI:https://www.aiguafreda.cat/actualitat/agenda/sardanes-amb-la-cobla-lluisos-de-taradell.html
CLASS:PUBLIC
END:VEVENT
END:VCALENDAR
