BEGIN:VCALENDAR
VERSION:2.0
CALSCALE:GREGORIAN
PRODID:-//Diputació de Barcelona//DibaCMS//EN
BEGIN:VEVENT
UID:6681
DTSTAMP:20260423T141942
DTSTART:20171022T110000
DTEND:20171022T000000
SUMMARY:5a. Trobada poètica a la Font d’en Pinós
LOCATION:
METHOD:PUBLISH
X-WR-CALNAME:aiguafreda@aiguafreda.cat
X-WR-TIMEZONE:Europe/Madrid
DESCRIPTION:
URI:https://www.aiguafreda.cat/actualitat/agenda/5a-trobada-poetica-a-la-font-den-pinos.html
CLASS:PUBLIC
END:VEVENT
END:VCALENDAR
