BEGIN:VCALENDAR
VERSION:2.0
CALSCALE:GREGORIAN
PRODID:-//Diputació de Barcelona//DibaCMS//EN
BEGIN:VEVENT
UID:6679
DTSTAMP:20260423T113134
DTSTART:20171002T170000
DTEND:20171002T000000
SUMMARY:Comença el curs de català 
LOCATION:
METHOD:PUBLISH
X-WR-CALNAME:aiguafreda@aiguafreda.cat
X-WR-TIMEZONE:Europe/Madrid
DESCRIPTION:
URI:https://www.aiguafreda.cat/actualitat/agenda/comenca-el-curs-de-catala-.html
CLASS:PUBLIC
END:VEVENT
END:VCALENDAR
