BEGIN:VCALENDAR
VERSION:2.0
CALSCALE:GREGORIAN
PRODID:-//Diputació de Barcelona//DibaCMS//EN
BEGIN:VEVENT
UID:6678
DTSTAMP:20260423T141010
DTSTART:20171002T100000
DTEND:20171002T000000
SUMMARY:Comença el curs d’història de l’art 
LOCATION:
METHOD:PUBLISH
X-WR-CALNAME:aiguafreda@aiguafreda.cat
X-WR-TIMEZONE:Europe/Madrid
DESCRIPTION:
URI:https://www.aiguafreda.cat/actualitat/agenda/comenca-el-curs-dhistoria-de-lart-.html
CLASS:PUBLIC
END:VEVENT
END:VCALENDAR
