BEGIN:VCALENDAR
VERSION:2.0
CALSCALE:GREGORIAN
PRODID:-//Diputació de Barcelona//DibaCMS//EN
BEGIN:VEVENT
UID:6675
DTSTAMP:20260423T125714
DTSTART:20170924T000000
DTEND:20170924T000000
SUMMARY:16a. Edició a Aiguafreda d’Osona Camina
LOCATION:
METHOD:PUBLISH
X-WR-CALNAME:aiguafreda@aiguafreda.cat
X-WR-TIMEZONE:Europe/Madrid
DESCRIPTION:
URI:https://www.aiguafreda.cat/actualitat/agenda/16a-edicio-a-aiguafreda-dosona-camina.html
CLASS:PUBLIC
END:VEVENT
END:VCALENDAR
