BEGIN:VCALENDAR
VERSION:2.0
CALSCALE:GREGORIAN
PRODID:-//Diputació de Barcelona//DibaCMS//EN
BEGIN:VEVENT
UID:6673
DTSTAMP:20260423T182957
DTSTART:20170916T000000
DTEND:20170916T000000
SUMMARY:38a. Edició de la Matagalls-Montserrat
LOCATION:
METHOD:PUBLISH
X-WR-CALNAME:aiguafreda@aiguafreda.cat
X-WR-TIMEZONE:Europe/Madrid
DESCRIPTION:
URI:https://www.aiguafreda.cat/actualitat/agenda/38a-edicio-de-la-matagalls-montserrat.html
CLASS:PUBLIC
END:VEVENT
END:VCALENDAR
