BEGIN:VCALENDAR
VERSION:2.0
CALSCALE:GREGORIAN
PRODID:-//Diputació de Barcelona//DibaCMS//EN
BEGIN:VEVENT
UID:6670
DTSTAMP:20260423T094739
DTSTART:20170909T000000
DTEND:20170909T000000
SUMMARY:Caminada popular en benefici d’Oncovallès.
LOCATION:
METHOD:PUBLISH
X-WR-CALNAME:aiguafreda@aiguafreda.cat
X-WR-TIMEZONE:Europe/Madrid
DESCRIPTION:
URI:https://www.aiguafreda.cat/actualitat/agenda/caminada-popular-en-benefici-doncovalles.html
CLASS:PUBLIC
END:VEVENT
END:VCALENDAR
