BEGIN:VCALENDAR
VERSION:2.0
CALSCALE:GREGORIAN
PRODID:-//Diputació de Barcelona//DibaCMS//EN
BEGIN:VEVENT
UID:6669
DTSTAMP:20260423T054600
DTSTART:20170908T000000
DTEND:20170922T000000
SUMMARY:Inauguració de l’exposició “Retrats del Montseny, fesomies de la terra” del fotògraf Mariano Pagès. Fins al 22 de setembre
LOCATION:
METHOD:PUBLISH
X-WR-CALNAME:aiguafreda@aiguafreda.cat
X-WR-TIMEZONE:Europe/Madrid
DESCRIPTION:
URI:https://www.aiguafreda.cat/actualitat/agenda/inauguracio-de-lexposicio-retrats-del-montseny-fesomies-de-la-terra-del-fotograf-mariano-pages-fins-al-22-de-setembre.html
CLASS:PUBLIC
END:VEVENT
END:VCALENDAR
