BEGIN:VCALENDAR
VERSION:2.0
CALSCALE:GREGORIAN
PRODID:-//Diputació de Barcelona//DibaCMS//EN
BEGIN:VEVENT
UID:6663
DTSTAMP:20260423T144434
DTSTART:20170805T000000
DTEND:20170805T000000
SUMMARY:Aplec de Sant Salvador d’Avencó. Missa, vermut i arrossada popular
LOCATION:
METHOD:PUBLISH
X-WR-CALNAME:aiguafreda@aiguafreda.cat
X-WR-TIMEZONE:Europe/Madrid
DESCRIPTION:
URI:https://www.aiguafreda.cat/actualitat/agenda/aplec-de-sant-salvador-davenco-missa-vermut-i-arrossada-popular.html
CLASS:PUBLIC
END:VEVENT
END:VCALENDAR
