BEGIN:VCALENDAR
VERSION:2.0
CALSCALE:GREGORIAN
PRODID:-//Diputació de Barcelona//DibaCMS//EN
BEGIN:VEVENT
UID:6658
DTSTAMP:20260423T225730
DTSTART:20170710T180000
DTEND:20170715T210000
SUMMARY:10a. Setmana de la Joventut
LOCATION:
METHOD:PUBLISH
X-WR-CALNAME:aiguafreda@aiguafreda.cat
X-WR-TIMEZONE:Europe/Madrid
DESCRIPTION:
URI:https://www.aiguafreda.cat/actualitat/agenda/6658-10a-setmana-de-la-joventut.html
CLASS:PUBLIC
END:VEVENT
END:VCALENDAR
