BEGIN:VCALENDAR
VERSION:2.0
CALSCALE:GREGORIAN
PRODID:-//Diputació de Barcelona//DibaCMS//EN
BEGIN:VEVENT
UID:6657
DTSTAMP:20260423T185745
DTSTART:20170708T200000
DTEND:20170708T000000
SUMMARY:Trobada de corals a Sant Salvador
LOCATION:
METHOD:PUBLISH
X-WR-CALNAME:aiguafreda@aiguafreda.cat
X-WR-TIMEZONE:Europe/Madrid
DESCRIPTION:
URI:https://www.aiguafreda.cat/actualitat/agenda/trobada-de-corals-a-sant-salvador.html
CLASS:PUBLIC
END:VEVENT
END:VCALENDAR
