BEGIN:VCALENDAR
VERSION:2.0
CALSCALE:GREGORIAN
PRODID:-//Diputació de Barcelona//DibaCMS//EN
BEGIN:VEVENT
UID:6653
DTSTAMP:20260423T163435
DTSTART:20170704T170000
DTEND:20170705T200000
SUMMARY:Festa de la Infància, amb el Consell d’Infants d’Aiguafreda
LOCATION:
METHOD:PUBLISH
X-WR-CALNAME:aiguafreda@aiguafreda.cat
X-WR-TIMEZONE:Europe/Madrid
DESCRIPTION:
URI:https://www.aiguafreda.cat/actualitat/agenda/6653-festa-de-la-infancia-amb-el-consell-dinfants-daiguafreda.html
CLASS:PUBLIC
END:VEVENT
END:VCALENDAR
