BEGIN:VCALENDAR
VERSION:2.0
CALSCALE:GREGORIAN
PRODID:-//Diputació de Barcelona//DibaCMS//EN
BEGIN:VEVENT
UID:6651
DTSTAMP:20260423T143431
DTSTART:20170702T190000
DTEND:20170702T210000
SUMMARY:Festival de Ballet de l'Escola de Dansa Àngels Vives. Final de curs. Grup de petits.
LOCATION:
METHOD:PUBLISH
X-WR-CALNAME:aiguafreda@aiguafreda.cat
X-WR-TIMEZONE:Europe/Madrid
DESCRIPTION:
URI:https://www.aiguafreda.cat/actualitat/agenda/festival-de-ballet-de-lescola-de-dansa-angels-vives-final-de-curs-grup-de-petits.html
CLASS:PUBLIC
END:VEVENT
END:VCALENDAR
