BEGIN:VCALENDAR
VERSION:2.0
CALSCALE:GREGORIAN
PRODID:-//Diputació de Barcelona//DibaCMS//EN
BEGIN:VEVENT
UID:6650
DTSTAMP:20260423T163244
DTSTART:20170701T220000
DTEND:20170701T000000
SUMMARY:Festival de Ballet de l'Escola de Dansa Àngels Vives. Final de curs. Grup de grans.
LOCATION:
METHOD:PUBLISH
X-WR-CALNAME:aiguafreda@aiguafreda.cat
X-WR-TIMEZONE:Europe/Madrid
DESCRIPTION:
URI:https://www.aiguafreda.cat/actualitat/agenda/festival-de-ballet-de-lescola-de-dansa-angels-vives-final-de-curs-grup-de-grans.html
CLASS:PUBLIC
END:VEVENT
END:VCALENDAR
