BEGIN:VCALENDAR
VERSION:2.0
CALSCALE:GREGORIAN
PRODID:-//Diputació de Barcelona//DibaCMS//EN
BEGIN:VEVENT
UID:6649
DTSTAMP:20260423T095416
DTSTART:20170625T110000
DTEND:20170625T140000
SUMMARY:Descobrint la Vall d’Avencó. Excursió Guiada
LOCATION:
METHOD:PUBLISH
X-WR-CALNAME:aiguafreda@aiguafreda.cat
X-WR-TIMEZONE:Europe/Madrid
DESCRIPTION:
URI:https://www.aiguafreda.cat/actualitat/agenda/6649-descobrint-la-vall-davenco-excursio-guiada.html
CLASS:PUBLIC
END:VEVENT
END:VCALENDAR
