BEGIN:VCALENDAR
VERSION:2.0
CALSCALE:GREGORIAN
PRODID:-//Diputació de Barcelona//DibaCMS//EN
BEGIN:VEVENT
UID:6647
DTSTAMP:20260423T065916
DTSTART:20170623T000000
DTEND:20170623T000000
SUMMARY:Gran revetlla de Sant Joan
LOCATION:
METHOD:PUBLISH
X-WR-CALNAME:aiguafreda@aiguafreda.cat
X-WR-TIMEZONE:Europe/Madrid
DESCRIPTION:
URI:https://www.aiguafreda.cat/actualitat/agenda/gran-revetlla-de-sant-joan.html
CLASS:PUBLIC
END:VEVENT
END:VCALENDAR
