BEGIN:VCALENDAR
VERSION:2.0
CALSCALE:GREGORIAN
PRODID:-//Diputació de Barcelona//DibaCMS//EN
BEGIN:VEVENT
UID:6645
DTSTAMP:20260423T040606
DTSTART:20170621T170000
DTEND:20170621T000000
SUMMARY:Teatre. Sortida al Teatre Condal a veure l’obra “Homes”
LOCATION:
METHOD:PUBLISH
X-WR-CALNAME:aiguafreda@aiguafreda.cat
X-WR-TIMEZONE:Europe/Madrid
DESCRIPTION:
URI:https://www.aiguafreda.cat/actualitat/agenda/teatre-sortida-al-teatre-condal-a-veure-lobra-homes.html
CLASS:PUBLIC
END:VEVENT
END:VCALENDAR
