BEGIN:VCALENDAR
VERSION:2.0
CALSCALE:GREGORIAN
PRODID:-//Diputació de Barcelona//DibaCMS//EN
BEGIN:VEVENT
UID:6644
DTSTAMP:20260423T082533
DTSTART:20170618T100000
DTEND:20170618T140000
SUMMARY:Taller de feltre
LOCATION:
METHOD:PUBLISH
X-WR-CALNAME:aiguafreda@aiguafreda.cat
X-WR-TIMEZONE:Europe/Madrid
DESCRIPTION:
URI:https://www.aiguafreda.cat/actualitat/agenda/taller-de-feltre.html
CLASS:PUBLIC
END:VEVENT
END:VCALENDAR
