BEGIN:VCALENDAR
VERSION:2.0
CALSCALE:GREGORIAN
PRODID:-//Diputació de Barcelona//DibaCMS//EN
BEGIN:VEVENT
UID:6643
DTSTAMP:20260423T165953
DTSTART:20170617T000000
DTEND:20170617T000000
SUMMARY:Cursa de les Ànimes del Purgatori
LOCATION:
METHOD:PUBLISH
X-WR-CALNAME:aiguafreda@aiguafreda.cat
X-WR-TIMEZONE:Europe/Madrid
DESCRIPTION:
URI:https://www.aiguafreda.cat/actualitat/agenda/cursa-de-les-animes-del-purgatori.html
CLASS:PUBLIC
END:VEVENT
END:VCALENDAR
