BEGIN:VCALENDAR
VERSION:2.0
CALSCALE:GREGORIAN
PRODID:-//Diputació de Barcelona//DibaCMS//EN
BEGIN:VEVENT
UID:6642
DTSTAMP:20260423T095317
DTSTART:20170616T000000
DTEND:20170616T000000
SUMMARY:Festa de fi de curs de l’AMPA de l’escola “La Muntanya”
LOCATION:
METHOD:PUBLISH
X-WR-CALNAME:aiguafreda@aiguafreda.cat
X-WR-TIMEZONE:Europe/Madrid
DESCRIPTION:
URI:https://www.aiguafreda.cat/actualitat/agenda/6642-festa-de-fi-de-curs-de-lampa-de-lescola-la-muntanya.html
CLASS:PUBLIC
END:VEVENT
END:VCALENDAR
