BEGIN:VCALENDAR
VERSION:2.0
CALSCALE:GREGORIAN
PRODID:-//Diputació de Barcelona//DibaCMS//EN
BEGIN:VEVENT
UID:6640
DTSTAMP:20260423T153441
DTSTART:20170611T113000
DTEND:20170611T140000
SUMMARY:Concert de final de curs de l’Escola de Música “La Clau de Sol”
LOCATION:
METHOD:PUBLISH
X-WR-CALNAME:aiguafreda@aiguafreda.cat
X-WR-TIMEZONE:Europe/Madrid
DESCRIPTION:
URI:https://www.aiguafreda.cat/actualitat/agenda/concert-de-final-de-curs-de-lescola-de-musica-la-clau-de-sol.html
CLASS:PUBLIC
END:VEVENT
END:VCALENDAR
