BEGIN:VCALENDAR
VERSION:2.0
CALSCALE:GREGORIAN
PRODID:-//Diputació de Barcelona//DibaCMS//EN
BEGIN:VEVENT
UID:6638
DTSTAMP:20260423T040537
DTSTART:20170604T100000
DTEND:20170604T140000
SUMMARY:Taller de Ratafia, amb Sandra Saura
LOCATION:
METHOD:PUBLISH
X-WR-CALNAME:aiguafreda@aiguafreda.cat
X-WR-TIMEZONE:Europe/Madrid
DESCRIPTION:
URI:https://www.aiguafreda.cat/actualitat/agenda/taller-de-ratafia-amb-sandra-saura.html
CLASS:PUBLIC
END:VEVENT
END:VCALENDAR
