BEGIN:VCALENDAR
VERSION:2.0
CALSCALE:GREGORIAN
PRODID:-//Diputació de Barcelona//DibaCMS//EN
BEGIN:VEVENT
UID:6637
DTSTAMP:20260423T040506
DTSTART:20170603T180000
DTEND:20170603T200000
SUMMARY:Ball a l’Era amb “Semproniana”. Música folk tradicional.
LOCATION:
METHOD:PUBLISH
X-WR-CALNAME:aiguafreda@aiguafreda.cat
X-WR-TIMEZONE:Europe/Madrid
DESCRIPTION:
URI:https://www.aiguafreda.cat/actualitat/agenda/ball-a-lera-amb-semproniana-musica-folk-tradicional.html
CLASS:PUBLIC
END:VEVENT
END:VCALENDAR
