BEGIN:VCALENDAR
VERSION:2.0
CALSCALE:GREGORIAN
PRODID:-//Diputació de Barcelona//DibaCMS//EN
BEGIN:VEVENT
UID:6636
DTSTAMP:20260423T082646
DTSTART:20170602T190000
DTEND:20170602T000000
SUMMARY:Tertúlia literària
LOCATION:
METHOD:PUBLISH
X-WR-CALNAME:aiguafreda@aiguafreda.cat
X-WR-TIMEZONE:Europe/Madrid
DESCRIPTION:
URI:https://www.aiguafreda.cat/actualitat/agenda/6636-tertulia-literaria.html
CLASS:PUBLIC
END:VEVENT
END:VCALENDAR
